BEGIN:VCALENDAR
VERSION:2.0
PRODID:-//Tukios.com/
BEGIN:VEVENT
UID:f1bcdfc6-0743-473a-9414-2c561fc67d93@www.barronfuneralhome.com
DTSTAMP:20260420T193421Z
DTSTART:20260425T150000Z
DTEND:20260425T160000Z
SUMMARY:Memorial Service
DESCRIPTION:
URL:https://www.barronfuneralhome.com/obituaries/leslie-les-devatt
LOCATION: 1542 Liberty Road  Chester SC 29706
GEO:34.7326682;-81.2585615
END:VEVENT
END:VCALENDAR