BEGIN:VCALENDAR
VERSION:2.0
PRODID:-//Tukios.com/
BEGIN:VEVENT
UID:9e3eb663-6976-403c-a80e-d3fe6ad4ba40@www.barronfuneralhome.com
DTSTAMP:20260423T182021Z
DTSTART:20260509T170000Z
DTEND:20260509T180000Z
SUMMARY:Visitation
DESCRIPTION:
URL:https://www.barronfuneralhome.com/obituaries/alan-dupas
LOCATION: 133 Wylie St  Chester SC 29706
GEO:34.7074641;-81.2137636
END:VEVENT
END:VCALENDAR