BEGIN:VCALENDAR
VERSION:2.0
PRODID:-//Tukios.com/
BEGIN:VEVENT
UID:3be5b966-bd0f-46c9-ac0c-436dde254325@www.barronfuneralhome.com
DTSTAMP:20260423T182012Z
DTSTART:20260509T180000Z
DTEND:20260509T190000Z
SUMMARY:Celebration of Life
DESCRIPTION:
URL:https://www.barronfuneralhome.com/obituaries/alan-dupas
LOCATION: 133 Wylie St  Chester SC 29706
GEO:34.7074641;-81.2137636
END:VEVENT
END:VCALENDAR